BEGIN:VCALENDAR
VERSION:2.0
PRODID:-//Rockland Irish-American Cultural Center - ECPv6.14.0//NONSGML v1.0//EN
CALSCALE:GREGORIAN
METHOD:PUBLISH
X-WR-CALNAME:Rockland Irish-American Cultural Center
X-ORIGINAL-URL:https://www.rocklandirish.com
X-WR-CALDESC:Events for Rockland Irish-American Cultural Center
REFRESH-INTERVAL;VALUE=DURATION:PT1H
X-Robots-Tag:noindex
X-PUBLISHED-TTL:PT1H
BEGIN:VTIMEZONE
TZID:UTC
BEGIN:STANDARD
TZOFFSETFROM:+0000
TZOFFSETTO:+0000
TZNAME:UTC
DTSTART:20230101T000000
END:STANDARD
END:VTIMEZONE
BEGIN:VEVENT
DTSTART;TZID=UTC:20231026T180000
DTEND;TZID=UTC:20231026T213000
DTSTAMP:20260423T024301
CREATED:20231024T203135Z
LAST-MODIFIED:20240523T160755Z
UID:197-1698343200-1698355800@www.rocklandirish.com
SUMMARY:Set Dancing Classes
DESCRIPTION:Set dancing classes 6-9:30\nFor information call Gerry Kennedy on 201 458-3302 \nhttps://www.rocklandirish.com/wp-content/uploads/2023/10/set-dancing.mp4
URL:https://www.rocklandirish.com/event/set-dancing-classes/
END:VEVENT
BEGIN:VEVENT
DTSTART;TZID=UTC:20231102T070000
DTEND;TZID=UTC:20231102T140000
DTSTAMP:20260423T024301
CREATED:20231024T203036Z
LAST-MODIFIED:20231103T151838Z
UID:192-1698908400-1698933600@www.rocklandirish.com
SUMMARY:Senior Lunch\, Bingo and Cards
DESCRIPTION:Senior lunch\, bingo and cards\nFor Information call 845 365 2495.
URL:https://www.rocklandirish.com/event/senior-lunch-bingo-and-cards/
END:VEVENT
BEGIN:VEVENT
DTSTART;TZID=UTC:20231101T190000
DTEND;TZID=UTC:20231101T213000
DTSTAMP:20260423T024301
CREATED:20231024T202949Z
LAST-MODIFIED:20241014T173205Z
UID:191-1698865200-1698874200@www.rocklandirish.com
SUMMARY:Bagpipe Practice
DESCRIPTION:Rockland County Emerald Society Pipes and Drums\ncontact Thomas Gaynor 914 924-0524
URL:https://www.rocklandirish.com/event/bagpipe-practice/
END:VEVENT
BEGIN:VEVENT
DTSTART;TZID=UTC:20231031T190000
DTEND;TZID=UTC:20231031T213000
DTSTAMP:20260423T024301
CREATED:20231024T202843Z
LAST-MODIFIED:20231103T151708Z
UID:188-1698778800-1698787800@www.rocklandirish.com
SUMMARY:Set Dancing Practice
DESCRIPTION:https://www.rocklandirish.com/wp-content/uploads/2023/10/set-dancing.mp4
URL:https://www.rocklandirish.com/event/set-dancing-practice/
END:VEVENT
BEGIN:VEVENT
DTSTART;TZID=UTC:20231030T190000
DTEND;TZID=UTC:20231030T190000
DTSTAMP:20260423T024301
CREATED:20231024T201713Z
LAST-MODIFIED:20231103T150432Z
UID:184-1698692400-1698692400@www.rocklandirish.com
SUMMARY:Line Dancing
DESCRIPTION:Line Dancing 7-9:30 PM\nFor Information call Brigid 914 355-8961. \nhttps://www.rocklandirish.com/wp-content/uploads/2023/10/line-dancing.mp4
URL:https://www.rocklandirish.com/event/line-dancing/
END:VEVENT
BEGIN:VEVENT
DTSTART;TZID=UTC:20231026T180000
DTEND;TZID=UTC:20231026T213000
DTSTAMP:20260423T024301
CREATED:20231024T203135Z
LAST-MODIFIED:20240523T160755Z
UID:197-1698343200-1698355800@www.rocklandirish.com
SUMMARY:Set Dancing Classes
DESCRIPTION:Set dancing classes 6-9:30\nFor information call Gerry Kennedy on 201 458-3302 \nhttps://www.rocklandirish.com/wp-content/uploads/2023/10/set-dancing.mp4
URL:https://www.rocklandirish.com/event/set-dancing-classes/
END:VEVENT
BEGIN:VEVENT
DTSTART;TZID=UTC:20231102T070000
DTEND;TZID=UTC:20231102T140000
DTSTAMP:20260423T024301
CREATED:20231024T203036Z
LAST-MODIFIED:20231103T151838Z
UID:192-1698908400-1698933600@www.rocklandirish.com
SUMMARY:Senior Lunch\, Bingo and Cards
DESCRIPTION:Senior lunch\, bingo and cards\nFor Information call 845 365 2495.
URL:https://www.rocklandirish.com/event/senior-lunch-bingo-and-cards/
END:VEVENT
BEGIN:VEVENT
DTSTART;TZID=UTC:20231101T190000
DTEND;TZID=UTC:20231101T213000
DTSTAMP:20260423T024301
CREATED:20231024T202949Z
LAST-MODIFIED:20241014T173205Z
UID:191-1698865200-1698874200@www.rocklandirish.com
SUMMARY:Bagpipe Practice
DESCRIPTION:Rockland County Emerald Society Pipes and Drums\ncontact Thomas Gaynor 914 924-0524
URL:https://www.rocklandirish.com/event/bagpipe-practice/
END:VEVENT
BEGIN:VEVENT
DTSTART;TZID=UTC:20231031T190000
DTEND;TZID=UTC:20231031T213000
DTSTAMP:20260423T024301
CREATED:20231024T202843Z
LAST-MODIFIED:20231103T151708Z
UID:188-1698778800-1698787800@www.rocklandirish.com
SUMMARY:Set Dancing Practice
DESCRIPTION:https://www.rocklandirish.com/wp-content/uploads/2023/10/set-dancing.mp4
URL:https://www.rocklandirish.com/event/set-dancing-practice/
END:VEVENT
BEGIN:VEVENT
DTSTART;TZID=UTC:20231030T190000
DTEND;TZID=UTC:20231030T190000
DTSTAMP:20260423T024301
CREATED:20231024T201713Z
LAST-MODIFIED:20231103T150432Z
UID:184-1698692400-1698692400@www.rocklandirish.com
SUMMARY:Line Dancing
DESCRIPTION:Line Dancing 7-9:30 PM\nFor Information call Brigid 914 355-8961. \nhttps://www.rocklandirish.com/wp-content/uploads/2023/10/line-dancing.mp4
URL:https://www.rocklandirish.com/event/line-dancing/
END:VEVENT
BEGIN:VEVENT
DTSTART;TZID=UTC:20250323T133000
DTEND;TZID=UTC:20250323T190000
DTSTAMP:20260423T024301
CREATED:20250317T090816Z
LAST-MODIFIED:20250317T090901Z
UID:347-1742736600-1742756400@www.rocklandirish.com
SUMMARY:Saint Patrick’s Day Parade
DESCRIPTION:Peter Lynch: Rockland County Irish American Cultural Center\nAide to the Grand Marshal 2025\nPeter Lynch: Rockland County Irish American Cultural Center \nPeter Lynch is from County Galway and has been living in New York for over 40 years. Peter is married to Martina and they have three adult children\, Kevin\, Katie & Cian. He is also the proud “Gaga” to grandson James. \nHe is retired from Local Union 40 and works part time for ARC of Rockland. Peter is very active in the Rockland Irish American Cultural Center and always gives a helping hand without hesitation! He loves to spend time with RIACC members\, volunteering whenever he can. His favorite pastime is of course hanging out with his family\, especially grandson James who is a regular visitor to RIACC. \nPeter is very excited to represent the Rockland Irish American Cultural Center as the Aide to the Grand Marshal in the Pearl River Saint Patrick’s Day Parade on 3/23/2025. The Parade kicks off at 1:30pm. Please join us as Peter proudly leads us down the Avenue.
URL:https://www.rocklandirish.com/event/saint-patricks-day-parade/
LOCATION:Pearl River\, Downtown Main Street\, Pearl River\, NY\, United States
END:VEVENT
BEGIN:VEVENT
DTSTART;TZID=UTC:20231103T190000
DTEND;TZID=UTC:20231103T230000
DTSTAMP:20260423T024301
CREATED:20231106T230017Z
LAST-MODIFIED:20231106T230020Z
UID:265-1699038000-1699052400@www.rocklandirish.com
SUMMARY:Cards (Upstairs)
DESCRIPTION:Cards upstairs 7PM -11PM\nFor information call 845 786-2235
URL:https://www.rocklandirish.com/event/cards-2/
END:VEVENT
BEGIN:VEVENT
DTSTART;TZID=UTC:20231026T180000
DTEND;TZID=UTC:20231026T213000
DTSTAMP:20260423T024301
CREATED:20231024T203135Z
LAST-MODIFIED:20240523T160755Z
UID:197-1698343200-1698355800@www.rocklandirish.com
SUMMARY:Set Dancing Classes
DESCRIPTION:Set dancing classes 6-9:30\nFor information call Gerry Kennedy on 201 458-3302 \nhttps://www.rocklandirish.com/wp-content/uploads/2023/10/set-dancing.mp4
URL:https://www.rocklandirish.com/event/set-dancing-classes/
END:VEVENT
BEGIN:VEVENT
DTSTART;TZID=UTC:20231102T070000
DTEND;TZID=UTC:20231102T140000
DTSTAMP:20260423T024301
CREATED:20231024T203036Z
LAST-MODIFIED:20231103T151838Z
UID:192-1698908400-1698933600@www.rocklandirish.com
SUMMARY:Senior Lunch\, Bingo and Cards
DESCRIPTION:Senior lunch\, bingo and cards\nFor Information call 845 365 2495.
URL:https://www.rocklandirish.com/event/senior-lunch-bingo-and-cards/
END:VEVENT
BEGIN:VEVENT
DTSTART;TZID=UTC:20231101T190000
DTEND;TZID=UTC:20231101T213000
DTSTAMP:20260423T024301
CREATED:20231024T202949Z
LAST-MODIFIED:20241014T173205Z
UID:191-1698865200-1698874200@www.rocklandirish.com
SUMMARY:Bagpipe Practice
DESCRIPTION:Rockland County Emerald Society Pipes and Drums\ncontact Thomas Gaynor 914 924-0524
URL:https://www.rocklandirish.com/event/bagpipe-practice/
END:VEVENT
BEGIN:VEVENT
DTSTART;TZID=UTC:20231031T190000
DTEND;TZID=UTC:20231031T213000
DTSTAMP:20260423T024301
CREATED:20231024T202843Z
LAST-MODIFIED:20231103T151708Z
UID:188-1698778800-1698787800@www.rocklandirish.com
SUMMARY:Set Dancing Practice
DESCRIPTION:https://www.rocklandirish.com/wp-content/uploads/2023/10/set-dancing.mp4
URL:https://www.rocklandirish.com/event/set-dancing-practice/
END:VEVENT
BEGIN:VEVENT
DTSTART;TZID=UTC:20231030T190000
DTEND;TZID=UTC:20231030T190000
DTSTAMP:20260423T024301
CREATED:20231024T201713Z
LAST-MODIFIED:20231103T150432Z
UID:184-1698692400-1698692400@www.rocklandirish.com
SUMMARY:Line Dancing
DESCRIPTION:Line Dancing 7-9:30 PM\nFor Information call Brigid 914 355-8961. \nhttps://www.rocklandirish.com/wp-content/uploads/2023/10/line-dancing.mp4
URL:https://www.rocklandirish.com/event/line-dancing/
END:VEVENT
BEGIN:VEVENT
DTSTART;TZID=UTC:20240308T190000
DTEND;TZID=UTC:20240308T230000
DTSTAMP:20260423T024301
CREATED:20240306T171359Z
LAST-MODIFIED:20240306T171400Z
UID:315-1709924400-1709938800@www.rocklandirish.com
SUMMARY:25 Card Drive (Downstairs)
DESCRIPTION:25 card drive downstairs\nFor information call 845 786-2235
URL:https://www.rocklandirish.com/event/25-card-drive-downstairs-2/
END:VEVENT
BEGIN:VEVENT
DTSTART;TZID=UTC:20231026T180000
DTEND;TZID=UTC:20231026T213000
DTSTAMP:20260423T024301
CREATED:20231024T203135Z
LAST-MODIFIED:20240523T160755Z
UID:197-1698343200-1698355800@www.rocklandirish.com
SUMMARY:Set Dancing Classes
DESCRIPTION:Set dancing classes 6-9:30\nFor information call Gerry Kennedy on 201 458-3302 \nhttps://www.rocklandirish.com/wp-content/uploads/2023/10/set-dancing.mp4
URL:https://www.rocklandirish.com/event/set-dancing-classes/
END:VEVENT
BEGIN:VEVENT
DTSTART;TZID=UTC:20231102T070000
DTEND;TZID=UTC:20231102T140000
DTSTAMP:20260423T024301
CREATED:20231024T203036Z
LAST-MODIFIED:20231103T151838Z
UID:192-1698908400-1698933600@www.rocklandirish.com
SUMMARY:Senior Lunch\, Bingo and Cards
DESCRIPTION:Senior lunch\, bingo and cards\nFor Information call 845 365 2495.
URL:https://www.rocklandirish.com/event/senior-lunch-bingo-and-cards/
END:VEVENT
BEGIN:VEVENT
DTSTART;TZID=UTC:20231101T190000
DTEND;TZID=UTC:20231101T213000
DTSTAMP:20260423T024301
CREATED:20231024T202949Z
LAST-MODIFIED:20241014T173205Z
UID:191-1698865200-1698874200@www.rocklandirish.com
SUMMARY:Bagpipe Practice
DESCRIPTION:Rockland County Emerald Society Pipes and Drums\ncontact Thomas Gaynor 914 924-0524
URL:https://www.rocklandirish.com/event/bagpipe-practice/
END:VEVENT
BEGIN:VEVENT
DTSTART;TZID=UTC:20231031T190000
DTEND;TZID=UTC:20231031T213000
DTSTAMP:20260423T024301
CREATED:20231024T202843Z
LAST-MODIFIED:20231103T151708Z
UID:188-1698778800-1698787800@www.rocklandirish.com
SUMMARY:Set Dancing Practice
DESCRIPTION:https://www.rocklandirish.com/wp-content/uploads/2023/10/set-dancing.mp4
URL:https://www.rocklandirish.com/event/set-dancing-practice/
END:VEVENT
BEGIN:VEVENT
DTSTART;TZID=UTC:20231030T190000
DTEND;TZID=UTC:20231030T190000
DTSTAMP:20260423T024301
CREATED:20231024T201713Z
LAST-MODIFIED:20231103T150432Z
UID:184-1698692400-1698692400@www.rocklandirish.com
SUMMARY:Line Dancing
DESCRIPTION:Line Dancing 7-9:30 PM\nFor Information call Brigid 914 355-8961. \nhttps://www.rocklandirish.com/wp-content/uploads/2023/10/line-dancing.mp4
URL:https://www.rocklandirish.com/event/line-dancing/
END:VEVENT
BEGIN:VEVENT
DTSTART;TZID=UTC:20231103T190000
DTEND;TZID=UTC:20231103T230000
DTSTAMP:20260423T024301
CREATED:20231106T230017Z
LAST-MODIFIED:20231106T230020Z
UID:265-1699038000-1699052400@www.rocklandirish.com
SUMMARY:Cards (Upstairs)
DESCRIPTION:Cards upstairs 7PM -11PM\nFor information call 845 786-2235
URL:https://www.rocklandirish.com/event/cards-2/
END:VEVENT
BEGIN:VEVENT
DTSTART;TZID=UTC:20231026T180000
DTEND;TZID=UTC:20231026T213000
DTSTAMP:20260423T024301
CREATED:20231024T203135Z
LAST-MODIFIED:20240523T160755Z
UID:197-1698343200-1698355800@www.rocklandirish.com
SUMMARY:Set Dancing Classes
DESCRIPTION:Set dancing classes 6-9:30\nFor information call Gerry Kennedy on 201 458-3302 \nhttps://www.rocklandirish.com/wp-content/uploads/2023/10/set-dancing.mp4
URL:https://www.rocklandirish.com/event/set-dancing-classes/
END:VEVENT
BEGIN:VEVENT
DTSTART;TZID=UTC:20231102T070000
DTEND;TZID=UTC:20231102T140000
DTSTAMP:20260423T024301
CREATED:20231024T203036Z
LAST-MODIFIED:20231103T151838Z
UID:192-1698908400-1698933600@www.rocklandirish.com
SUMMARY:Senior Lunch\, Bingo and Cards
DESCRIPTION:Senior lunch\, bingo and cards\nFor Information call 845 365 2495.
URL:https://www.rocklandirish.com/event/senior-lunch-bingo-and-cards/
END:VEVENT
BEGIN:VEVENT
DTSTART;TZID=UTC:20231101T190000
DTEND;TZID=UTC:20231101T213000
DTSTAMP:20260423T024301
CREATED:20231024T202949Z
LAST-MODIFIED:20241014T173205Z
UID:191-1698865200-1698874200@www.rocklandirish.com
SUMMARY:Bagpipe Practice
DESCRIPTION:Rockland County Emerald Society Pipes and Drums\ncontact Thomas Gaynor 914 924-0524
URL:https://www.rocklandirish.com/event/bagpipe-practice/
END:VEVENT
BEGIN:VEVENT
DTSTART;TZID=UTC:20231031T190000
DTEND;TZID=UTC:20231031T213000
DTSTAMP:20260423T024301
CREATED:20231024T202843Z
LAST-MODIFIED:20231103T151708Z
UID:188-1698778800-1698787800@www.rocklandirish.com
SUMMARY:Set Dancing Practice
DESCRIPTION:https://www.rocklandirish.com/wp-content/uploads/2023/10/set-dancing.mp4
URL:https://www.rocklandirish.com/event/set-dancing-practice/
END:VEVENT
BEGIN:VEVENT
DTSTART;TZID=UTC:20231030T190000
DTEND;TZID=UTC:20231030T190000
DTSTAMP:20260423T024301
CREATED:20231024T201713Z
LAST-MODIFIED:20231103T150432Z
UID:184-1698692400-1698692400@www.rocklandirish.com
SUMMARY:Line Dancing
DESCRIPTION:Line Dancing 7-9:30 PM\nFor Information call Brigid 914 355-8961. \nhttps://www.rocklandirish.com/wp-content/uploads/2023/10/line-dancing.mp4
URL:https://www.rocklandirish.com/event/line-dancing/
END:VEVENT
BEGIN:VEVENT
DTSTART;TZID=UTC:20231026T180000
DTEND;TZID=UTC:20231026T213000
DTSTAMP:20260423T024301
CREATED:20231024T203135Z
LAST-MODIFIED:20240523T160755Z
UID:197-1698343200-1698355800@www.rocklandirish.com
SUMMARY:Set Dancing Classes
DESCRIPTION:Set dancing classes 6-9:30\nFor information call Gerry Kennedy on 201 458-3302 \nhttps://www.rocklandirish.com/wp-content/uploads/2023/10/set-dancing.mp4
URL:https://www.rocklandirish.com/event/set-dancing-classes/
END:VEVENT
END:VCALENDAR